BEGIN:VCALENDAR
VERSION:2.0
PRODID:-//Squarespace Inc/Squarespace 6//v6//EN
BEGIN:VEVENT
UID:5ba99d9953450af1f8df94b4@squarespace.com
DTSTAMP:20181220T020418Z
DTSTART:20190407T133000Z
DTEND:20190407T200000Z
SUMMARY:Underwood and Wilkins Charity Trail ride 7th April 2019
END:VEVENT
END:VCALENDAR
